BEGIN:VCALENDAR
VERSION:2.0
PRODID:-//https://calenda-formation.labocleo.org
X-WR-CALNAME:Calenda
X-WR-TIMEZONE:Europe/Paris
CALSCALE:GREGORIAN
X-WR-CALDESC:The calendar for arts, humanities and social sciences
METHOD:PUBLISH
BEGIN:VEVENT
DTSTART;VALUE=DATE:20120215
DTEND;VALUE=DATE:20120216
UID:206986-20120215@calenda.revues.org
SUMMARY:Policies and practices in access to digital archives: towards a new research and policy agenda
URL:https://calenda-formation.labocleo.org/206986
DESCRIPTION:Policies and practices in access to digital archives: towards a new research and policy agenda\, July 2 - 6\, 2012 Budapest\, Hungary. In co-operation with the Information Program\, Open Society Foundations and the Open Society Archives (OSA) at Central … @plus_info https://calenda-formation.labocleo.org/206986
LOCATION:Budapest
END:VEVENT
END:VCALENDAR
