BEGIN:VCALENDAR
VERSION:2.0
PRODID:-//https://calenda-formation.labocleo.org
X-WR-CALNAME:Calenda
X-WR-TIMEZONE:Europe/Paris
CALSCALE:GREGORIAN
X-WR-CALDESC:The calendar for arts, humanities and social sciences
METHOD:PUBLISH
BEGIN:VEVENT
DTSTART;VALUE=DATE:20120331
DTEND;VALUE=DATE:20120401
UID:207058-20120331@calenda.revues.org
SUMMARY:The history of sciences\, the history of books\, and intellectual history
URL:https://calenda-formation.labocleo.org/207058
DESCRIPTION:Cette journée d'études se propose de confronter trois disciplines – histoire des sciences\, histoire du livre\, et histoire intellectuelle – afin de réexaminer les particularités de chacune ainsi que leurs zones de convergence. Journée organisée par le… @plus_info https://calenda-formation.labocleo.org/207058
LOCATION:Saint-Denis
END:VEVENT
END:VCALENDAR
