BEGIN:VCALENDAR
VERSION:2.0
PRODID:-//https://calenda-formation.labocleo.org
X-WR-CALNAME:Calenda
X-WR-TIMEZONE:Europe/Paris
CALSCALE:GREGORIAN
X-WR-CALDESC:Le calendrier des lettres et sciences humaines et sociales
METHOD:PUBLISH
BEGIN:VEVENT
DTSTART;VALUE=DATE:20120322
DTEND;VALUE=DATE:20120323
UID:207078-20120322@calenda.revues.org
SUMMARY:Une crise urbaine à la fin du Haut-Empire ? 
URL:https://calenda-formation.labocleo.org/207078
DESCRIPTION:Les organisateurs de cette rencontre proposent d’engager une réflexion sur l’occupation et l’évolution des espaces civiques comme élément de compréhension de l’histoire urbaine et municipale dans les provinces occidentales de l'Empire entre le IIe si… Más informaciones https://calenda-formation.labocleo.org/207078
LOCATION:Cartagena
END:VEVENT
BEGIN:VEVENT
DTSTART;VALUE=DATE:20120323
DTEND;VALUE=DATE:20120324
UID:207078-20120323@calenda.revues.org
SUMMARY:Une crise urbaine à la fin du Haut-Empire ? 
URL:https://calenda-formation.labocleo.org/207078
DESCRIPTION:Les organisateurs de cette rencontre proposent d’engager une réflexion sur l’occupation et l’évolution des espaces civiques comme élément de compréhension de l’histoire urbaine et municipale dans les provinces occidentales de l'Empire entre le IIe si… Más informaciones https://calenda-formation.labocleo.org/207078
LOCATION:Cartagena
END:VEVENT
END:VCALENDAR
