BEGIN:VCALENDAR
VERSION:2.0
PRODID:-//https://calenda-formation.labocleo.org
X-WR-CALNAME:Calenda
X-WR-TIMEZONE:Europe/Paris
CALSCALE:GREGORIAN
X-WR-CALDESC:O calendário de letras e de ciências sociais e humanas
METHOD:PUBLISH
BEGIN:VEVENT
DTSTART;VALUE=DATE:20120317
DTEND;VALUE=DATE:20120318
UID:207097-20120317@calenda.revues.org
SUMMARY:Le « bouddhisme »\, invention de l'Occident chrétien ?
URL:https://calenda-formation.labocleo.org/207097
DESCRIPTION:Le C.R.B.C. est un laboratoire de l’I.S.T.R\, Institut de science et de théologie des religions du theologicum (Institut catholique de Paris). Il regroupe des chercheurs chrétiens et des chercheurs bouddhistes (membres de l’Université bouddhique europ… @plus_info https://calenda-formation.labocleo.org/207097
LOCATION:Paris
END:VEVENT
END:VCALENDAR
