BEGIN:VCALENDAR
VERSION:2.0
PRODID:-//https://calenda-formation.labocleo.org
X-WR-CALNAME:Calenda
X-WR-TIMEZONE:Europe/Paris
CALSCALE:GREGORIAN
X-WR-CALDESC:Le calendrier des lettres et sciences humaines et sociales
METHOD:PUBLISH
BEGIN:VEVENT
DTSTART;VALUE=DATE:20120214
DTEND;VALUE=DATE:20120215
UID:207132-20120214@calenda.revues.org
SUMMARY:Max Weber : entre sociologie et théorie du droit
URL:https://calenda-formation.labocleo.org/207132
DESCRIPTION:À l'occasion de la parution des écrits sur le droit de Max Weber dans le volume 22-23 de ses œuvres complètes\, l'Institut d'études avancées de Paris organise\, en collaboration avec le séminaire « Autour de Max Weber »\, une conférence consacrée à la t… @plus_info https://calenda-formation.labocleo.org/207132
LOCATION:Paris
END:VEVENT
END:VCALENDAR
