BEGIN:VCALENDAR
VERSION:2.0
PRODID:-//https://calenda-formation.labocleo.org
X-WR-CALNAME:Calenda
X-WR-TIMEZONE:Europe/Paris
CALSCALE:GREGORIAN
X-WR-CALDESC:Le calendrier des lettres et sciences humaines et sociales
METHOD:PUBLISH
BEGIN:VEVENT
DTSTART;VALUE=DATE:20120217
DTEND;VALUE=DATE:20120218
UID:207150-20120217@calenda.revues.org
SUMMARY:La Réalisation à l'époque du Vormärz\, 1815-1848
URL:https://calenda-formation.labocleo.org/207150
DESCRIPTION:Colloque « la réalisation de la philosophie à l’époque du Vormärz ». Organisation : Anne Durand (Paris I/CHSPM)\, Edouard Pacaud (Paris I/CHSPM)\, Raphaël Chappé (Paris Ouest/Prix d’Amsterdam/ASCA). Lieux : vendredi 17 février 2012 à Nanterre\, samedi 1… Weitere Informationen https://calenda-formation.labocleo.org/207150
LOCATION:Nanterre\, Paris
END:VEVENT
BEGIN:VEVENT
DTSTART;VALUE=DATE:20120218
DTEND;VALUE=DATE:20120219
UID:207150-20120218@calenda.revues.org
SUMMARY:La Réalisation à l'époque du Vormärz\, 1815-1848
URL:https://calenda-formation.labocleo.org/207150
DESCRIPTION:Colloque « la réalisation de la philosophie à l’époque du Vormärz ». Organisation : Anne Durand (Paris I/CHSPM)\, Edouard Pacaud (Paris I/CHSPM)\, Raphaël Chappé (Paris Ouest/Prix d’Amsterdam/ASCA). Lieux : vendredi 17 février 2012 à Nanterre\, samedi 1… Weitere Informationen https://calenda-formation.labocleo.org/207150
LOCATION:Nanterre\, Paris
END:VEVENT
END:VCALENDAR
