BEGIN:VCALENDAR
VERSION:2.0
PRODID:-//https://calenda-formation.labocleo.org
X-WR-CALNAME:Calenda
X-WR-TIMEZONE:Europe/Paris
CALSCALE:GREGORIAN
X-WR-CALDESC:Le calendrier des lettres et sciences humaines et sociales
METHOD:PUBLISH
BEGIN:VEVENT
DTSTART;VALUE=DATE:20120430
DTEND;VALUE=DATE:20120501
UID:207158-20120430@calenda.revues.org
SUMMARY:A construção da fortuna e do malogro: perspectivas históricas 
URL:https://calenda-formation.labocleo.org/207158
DESCRIPTION:Fortuna e malogro são conceitos com significados historicamente mutáveis que correspondem a construções culturais muito presentes no pensamento ocidental. Trata-se de conceitos cuja aplicação em cada momento se baseia em percepções comparativas da re… Weitere Informationen https://calenda-formation.labocleo.org/207158
LOCATION:Lissabon
END:VEVENT
END:VCALENDAR
