BEGIN:VCALENDAR
VERSION:2.0
PRODID:-//https://calenda-formation.labocleo.org
X-WR-CALNAME:Calenda
X-WR-TIMEZONE:Europe/Paris
CALSCALE:GREGORIAN
X-WR-CALDESC:Le calendrier des lettres et sciences humaines et sociales
METHOD:PUBLISH
BEGIN:VEVENT
DTSTART;VALUE=DATE:20120306
DTEND;VALUE=DATE:20120307
UID:207183-20120306@calenda.revues.org
SUMMARY:Le cinéma allemand et la Guerre froide
URL:https://calenda-formation.labocleo.org/207183
DESCRIPTION:Dans le cadre de notre colloque sur « le cinéma allemand et la Guerre froide »\, nous comptons analyser les nombreuses facettes de ce choc idéologique majeur que le cinéma reflète et crée à la fois\, et dont les échos continuent de résonner plus de vin… Weitere Informationen https://calenda-formation.labocleo.org/207183
LOCATION:Metz
END:VEVENT
END:VCALENDAR
