BEGIN:VCALENDAR
VERSION:2.0
PRODID:-//https://calenda-formation.labocleo.org
X-WR-CALNAME:Calenda
X-WR-TIMEZONE:Europe/Paris
CALSCALE:GREGORIAN
X-WR-CALDESC:The calendar for arts, humanities and social sciences
METHOD:PUBLISH
BEGIN:VEVENT
DTSTART;VALUE=DATE:20120615
DTEND;VALUE=DATE:20120616
UID:207186-20120615@calenda.revues.org
SUMMARY:Kisses and a Love Letter 
URL:https://calenda-formation.labocleo.org/207186
DESCRIPTION:The goal of this conference will be to focus on sexed subjectivity\, in particular on the side of the feminine\, in relation to desire\, love\, and jouissance in the sphere of Anglophone literary and visual arts. A critical approach in dialogue with the … @plus_info https://calenda-formation.labocleo.org/207186
LOCATION:Besançon
END:VEVENT
END:VCALENDAR
