BEGIN:VCALENDAR
VERSION:2.0
PRODID:-//https://calenda-formation.labocleo.org
X-WR-CALNAME:Calenda
X-WR-TIMEZONE:Europe/Paris
CALSCALE:GREGORIAN
X-WR-CALDESC:Le calendrier des lettres et sciences humaines et sociales
METHOD:PUBLISH
BEGIN:VEVENT
DTSTART;VALUE=DATE:20120218
DTEND;VALUE=DATE:20120219
UID:207278-20120218@calenda.revues.org
SUMMARY:Parlements et cours souveraines en France et en Europe sous l'Ancien Régime
URL:https://calenda-formation.labocleo.org/207278
DESCRIPTION:Ce séminaire\, consacré à l’espace européen et à l’« Ancien Régime » au sens large\, est conçu dans le long terme. Il se fixe pour objectif de présenter les recherches actuelles sur le thème du « Parlement » élargi\, en une perspective résolument interd… Weitere Informationen https://calenda-formation.labocleo.org/207278
LOCATION:Paris
END:VEVENT
BEGIN:VEVENT
DTSTART;VALUE=DATE:20120324
DTEND;VALUE=DATE:20120325
UID:207278-20120324@calenda.revues.org
SUMMARY:Parlements et cours souveraines en France et en Europe sous l'Ancien Régime
URL:https://calenda-formation.labocleo.org/207278
DESCRIPTION:Ce séminaire\, consacré à l’espace européen et à l’« Ancien Régime » au sens large\, est conçu dans le long terme. Il se fixe pour objectif de présenter les recherches actuelles sur le thème du « Parlement » élargi\, en une perspective résolument interd… Weitere Informationen https://calenda-formation.labocleo.org/207278
LOCATION:Paris
END:VEVENT
BEGIN:VEVENT
DTSTART;VALUE=DATE:20120414
DTEND;VALUE=DATE:20120415
UID:207278-20120414@calenda.revues.org
SUMMARY:Parlements et cours souveraines en France et en Europe sous l'Ancien Régime
URL:https://calenda-formation.labocleo.org/207278
DESCRIPTION:Ce séminaire\, consacré à l’espace européen et à l’« Ancien Régime » au sens large\, est conçu dans le long terme. Il se fixe pour objectif de présenter les recherches actuelles sur le thème du « Parlement » élargi\, en une perspective résolument interd… Weitere Informationen https://calenda-formation.labocleo.org/207278
LOCATION:Paris
END:VEVENT
BEGIN:VEVENT
DTSTART;VALUE=DATE:20120519
DTEND;VALUE=DATE:20120520
UID:207278-20120519@calenda.revues.org
SUMMARY:Parlements et cours souveraines en France et en Europe sous l'Ancien Régime
URL:https://calenda-formation.labocleo.org/207278
DESCRIPTION:Ce séminaire\, consacré à l’espace européen et à l’« Ancien Régime » au sens large\, est conçu dans le long terme. Il se fixe pour objectif de présenter les recherches actuelles sur le thème du « Parlement » élargi\, en une perspective résolument interd… Weitere Informationen https://calenda-formation.labocleo.org/207278
LOCATION:Paris
END:VEVENT
BEGIN:VEVENT
DTSTART;VALUE=DATE:20120623
DTEND;VALUE=DATE:20120624
UID:207278-20120623@calenda.revues.org
SUMMARY:Parlements et cours souveraines en France et en Europe sous l'Ancien Régime
URL:https://calenda-formation.labocleo.org/207278
DESCRIPTION:Ce séminaire\, consacré à l’espace européen et à l’« Ancien Régime » au sens large\, est conçu dans le long terme. Il se fixe pour objectif de présenter les recherches actuelles sur le thème du « Parlement » élargi\, en une perspective résolument interd… Weitere Informationen https://calenda-formation.labocleo.org/207278
LOCATION:Paris
END:VEVENT
END:VCALENDAR
