BEGIN:VCALENDAR
VERSION:2.0
PRODID:-//https://calenda-formation.labocleo.org
X-WR-CALNAME:Calenda
X-WR-TIMEZONE:Europe/Paris
CALSCALE:GREGORIAN
X-WR-CALDESC:The calendar for arts, humanities and social sciences
METHOD:PUBLISH
BEGIN:VEVENT
DTSTART;VALUE=DATE:20120608
DTEND;VALUE=DATE:20120609
UID:207354-20120608@calenda.revues.org
SUMMARY:Public drinking water services challenged by sustainable development
URL:https://calenda-formation.labocleo.org/207354
DESCRIPTION:Le service public de l'eau potable est en profonde mutation depuis deux décennies. Les usages de l’eau et le cadre juridique ont évolué\, rendant la gestion complexe. Invités à se réformer\, les services d’eau pensent trouver des réponses en se regroup… @plus_info https://calenda-formation.labocleo.org/207354
LOCATION:Grenoble
END:VEVENT
END:VCALENDAR
