BEGIN:VCALENDAR
VERSION:2.0
PRODID:-//https://calenda-formation.labocleo.org
X-WR-CALNAME:Calenda
X-WR-TIMEZONE:Europe/Paris
CALSCALE:GREGORIAN
X-WR-CALDESC:O calendário de letras e de ciências sociais e humanas
METHOD:PUBLISH
BEGIN:VEVENT
DTSTART;VALUE=DATE:20120329
DTEND;VALUE=DATE:20120330
UID:207384-20120329@calenda.revues.org
SUMMARY:Modernité du livre médiéval
URL:https://calenda-formation.labocleo.org/207384
DESCRIPTION:Nouveaux outils\, nouvelles approches et perspectives renouvelées : ainsi peut-on caractériser les recherches actuelles sur le livre au Moyen Âge. En ouvrant la voie à des formes d’étude et de collaboration originales\, les technologies modernes - via … @plus_info https://calenda-formation.labocleo.org/207384
LOCATION:Paris
END:VEVENT
END:VCALENDAR
