BEGIN:VCALENDAR
VERSION:2.0
PRODID:-//https://calenda-formation.labocleo.org
X-WR-CALNAME:Calenda
X-WR-TIMEZONE:Europe/Paris
CALSCALE:GREGORIAN
X-WR-CALDESC:The calendar for arts, humanities and social sciences
METHOD:PUBLISH
BEGIN:VEVENT
DTSTART;VALUE=DATE:20121231
DTEND;VALUE=DATE:20130101
UID:207388-20121231@calenda.revues.org
SUMMARY:Approches méthodologiques en tourisme
URL:https://calenda-formation.labocleo.org/207388
DESCRIPTION:TÉOROS - la revue de recherche en tourisme\, invite des chercheur(e)s de toutes disciplines et de tous pays à soumettre une proposition d'article autour des problématiques liées à la méthodologie des études du tourisme. Il n’y a pas de date limite pou… @plus_info https://calenda-formation.labocleo.org/207388
LOCATION:
END:VEVENT
END:VCALENDAR
