BEGIN:VCALENDAR
VERSION:2.0
PRODID:-//https://calenda-formation.labocleo.org
X-WR-CALNAME:Calenda
X-WR-TIMEZONE:Europe/Paris
CALSCALE:GREGORIAN
X-WR-CALDESC:Le calendrier des lettres et sciences humaines et sociales
METHOD:PUBLISH
BEGIN:VEVENT
DTSTART;VALUE=DATE:20120331
DTEND;VALUE=DATE:20120401
UID:207389-20120331@calenda.revues.org
SUMMARY:Portugal nos dois últimos séculos
URL:https://calenda-formation.labocleo.org/207389
DESCRIPTION:Portugal in the last two centuries – I International Graduate Conference on Portuguese Modern and Contemporary History 2012\, will convene between June 21st and 23rd 2012 at Lisbon University Institute. Its main purpose is to promote exchange of knowl… @plus_info https://calenda-formation.labocleo.org/207389
LOCATION:Lisbonne
END:VEVENT
END:VCALENDAR
