BEGIN:VCALENDAR
VERSION:2.0
PRODID:-//https://calenda-formation.labocleo.org
X-WR-CALNAME:Calenda
X-WR-TIMEZONE:Europe/Paris
CALSCALE:GREGORIAN
X-WR-CALDESC:Le calendrier des lettres et sciences humaines et sociales
METHOD:PUBLISH
BEGIN:VEVENT
DTSTART;VALUE=DATE:20120404
DTEND;VALUE=DATE:20120405
UID:207452-20120404@calenda.revues.org
SUMMARY:Nouveaux regards sur les étudiant(e)s
URL:https://calenda-formation.labocleo.org/207452
DESCRIPTION:Dans le cadre des manifestations du RESUP (Réseau d’étude sur l’enseignement supérieur)1 cette journée d’étude a pour objectif de rassembler les jeunes chercheurs et chercheurs ayant explorés\, récemment\, la thématique des étudiant(e)s et de leurs étu… Weitere Informationen https://calenda-formation.labocleo.org/207452
LOCATION:Nanterre
END:VEVENT
END:VCALENDAR
