BEGIN:VCALENDAR
VERSION:2.0
PRODID:-//https://calenda-formation.labocleo.org
X-WR-CALNAME:Calenda
X-WR-TIMEZONE:Europe/Paris
CALSCALE:GREGORIAN
X-WR-CALDESC:Le calendrier des lettres et sciences humaines et sociales
METHOD:PUBLISH
BEGIN:VEVENT
DTSTART;VALUE=DATE:20120316
DTEND;VALUE=DATE:20120317
UID:207485-20120316@calenda.revues.org
SUMMARY:Foucault et la Renaissance
URL:https://calenda-formation.labocleo.org/207485
DESCRIPTION:Le présent colloque vise\, dans une optique naturellement pluridisciplinaire\, à convier littéraires\, philosophes\, historiens à penser le rapport de Michel Foucault à la Renaissance lequel\, si l’on excepte quelques travaux épars\, n’a guère retenu l’att… @plus_info https://calenda-formation.labocleo.org/207485
LOCATION:Toulouse
END:VEVENT
BEGIN:VEVENT
DTSTART;VALUE=DATE:20120313
DTEND;VALUE=DATE:20120314
UID:207485-20120313@calenda.revues.org
SUMMARY:Foucault et la Renaissance
URL:https://calenda-formation.labocleo.org/207485
DESCRIPTION:Le présent colloque vise\, dans une optique naturellement pluridisciplinaire\, à convier littéraires\, philosophes\, historiens à penser le rapport de Michel Foucault à la Renaissance lequel\, si l’on excepte quelques travaux épars\, n’a guère retenu l’att… @plus_info https://calenda-formation.labocleo.org/207485
LOCATION:Toulouse
END:VEVENT
BEGIN:VEVENT
DTSTART;VALUE=DATE:20120314
DTEND;VALUE=DATE:20120315
UID:207485-20120314@calenda.revues.org
SUMMARY:Foucault et la Renaissance
URL:https://calenda-formation.labocleo.org/207485
DESCRIPTION:Le présent colloque vise\, dans une optique naturellement pluridisciplinaire\, à convier littéraires\, philosophes\, historiens à penser le rapport de Michel Foucault à la Renaissance lequel\, si l’on excepte quelques travaux épars\, n’a guère retenu l’att… @plus_info https://calenda-formation.labocleo.org/207485
LOCATION:Toulouse
END:VEVENT
BEGIN:VEVENT
DTSTART;VALUE=DATE:20120315
DTEND;VALUE=DATE:20120316
UID:207485-20120315@calenda.revues.org
SUMMARY:Foucault et la Renaissance
URL:https://calenda-formation.labocleo.org/207485
DESCRIPTION:Le présent colloque vise\, dans une optique naturellement pluridisciplinaire\, à convier littéraires\, philosophes\, historiens à penser le rapport de Michel Foucault à la Renaissance lequel\, si l’on excepte quelques travaux épars\, n’a guère retenu l’att… @plus_info https://calenda-formation.labocleo.org/207485
LOCATION:Toulouse
END:VEVENT
END:VCALENDAR
