BEGIN:VCALENDAR
VERSION:2.0
PRODID:-//https://calenda-formation.labocleo.org
X-WR-CALNAME:Calenda
X-WR-TIMEZONE:Europe/Paris
CALSCALE:GREGORIAN
X-WR-CALDESC:Le calendrier des lettres et sciences humaines et sociales
METHOD:PUBLISH
BEGIN:VEVENT
DTSTART;VALUE=DATE:20120321
DTEND;VALUE=DATE:20120322
UID:207487-20120321@calenda.revues.org
SUMMARY:À la recherche du Caraïbe perdu
URL:https://calenda-formation.labocleo.org/207487
DESCRIPTION:Depuis 2008\, à l’université de Reims Champagne-Ardenne\, l’équipe du séminaire d’histoire de l’Amérique coloniale\, en partenariat avec le musée du quai Branly et Universiteit Leiden (Pays-Bas)\, mène un programme labélisé pour quatre ans par l’Agence n… Más informaciones https://calenda-formation.labocleo.org/207487
LOCATION:Reims
END:VEVENT
BEGIN:VEVENT
DTSTART;VALUE=DATE:20120322
DTEND;VALUE=DATE:20120323
UID:207487-20120322@calenda.revues.org
SUMMARY:À la recherche du Caraïbe perdu
URL:https://calenda-formation.labocleo.org/207487
DESCRIPTION:Depuis 2008\, à l’université de Reims Champagne-Ardenne\, l’équipe du séminaire d’histoire de l’Amérique coloniale\, en partenariat avec le musée du quai Branly et Universiteit Leiden (Pays-Bas)\, mène un programme labélisé pour quatre ans par l’Agence n… Más informaciones https://calenda-formation.labocleo.org/207487
LOCATION:Reims
END:VEVENT
BEGIN:VEVENT
DTSTART;VALUE=DATE:20120323
DTEND;VALUE=DATE:20120324
UID:207487-20120323@calenda.revues.org
SUMMARY:À la recherche du Caraïbe perdu
URL:https://calenda-formation.labocleo.org/207487
DESCRIPTION:Depuis 2008\, à l’université de Reims Champagne-Ardenne\, l’équipe du séminaire d’histoire de l’Amérique coloniale\, en partenariat avec le musée du quai Branly et Universiteit Leiden (Pays-Bas)\, mène un programme labélisé pour quatre ans par l’Agence n… Más informaciones https://calenda-formation.labocleo.org/207487
LOCATION:Reims
END:VEVENT
END:VCALENDAR
