BEGIN:VCALENDAR
VERSION:2.0
PRODID:-//https://calenda-formation.labocleo.org
X-WR-CALNAME:Calenda
X-WR-TIMEZONE:Europe/Paris
CALSCALE:GREGORIAN
X-WR-CALDESC:Le calendrier des lettres et sciences humaines et sociales
METHOD:PUBLISH
BEGIN:VEVENT
DTSTART;VALUE=DATE:20120629
DTEND;VALUE=DATE:20120630
UID:207500-20120629@calenda.revues.org
SUMMARY:Neuvième congrès international du management de la qualité dans les systèmes d'éducation et de formation (CIMQUSEF' 2012)
URL:https://calenda-formation.labocleo.org/207500
DESCRIPTION:Dans un contexte international orchestré par un savoir en perpétuel renouvellement\, nul ne peut contester aujourd'hui le fait que l’instauration d’un développement global durable de la société\, est subordonnée à la disponibilité de ressources humaine… @plus_info https://calenda-formation.labocleo.org/207500
LOCATION:Rabat
END:VEVENT
END:VCALENDAR
