BEGIN:VCALENDAR
VERSION:2.0
PRODID:-//https://calenda-formation.labocleo.org
X-WR-CALNAME:Calenda
X-WR-TIMEZONE:Europe/Paris
CALSCALE:GREGORIAN
X-WR-CALDESC:Le calendrier des lettres et sciences humaines et sociales
METHOD:PUBLISH
BEGIN:VEVENT
DTSTART;VALUE=DATE:20120316
DTEND;VALUE=DATE:20120317
UID:207508-20120316@calenda.revues.org
SUMMARY:Ville et littérature
URL:https://calenda-formation.labocleo.org/207508
DESCRIPTION:La ville\, et la métropole en particulier\, ont suscité une littérature qui a contribué à fonder leur mythe\, forger leur image\, à relater les expériences vécues en leur sein. Notre journée d’étude vise à mieux comprendre la relation entre l’image et l’… @plus_info https://calenda-formation.labocleo.org/207508
LOCATION:Genève
END:VEVENT
END:VCALENDAR
