BEGIN:VCALENDAR
VERSION:2.0
PRODID:-//https://calenda-formation.labocleo.org
X-WR-CALNAME:Calenda
X-WR-TIMEZONE:Europe/Paris
CALSCALE:GREGORIAN
X-WR-CALDESC:The calendar for arts, humanities and social sciences
METHOD:PUBLISH
BEGIN:VEVENT
DTSTART;VALUE=DATE:20120329
DTEND;VALUE=DATE:20120330
UID:207531-20120329@calenda.revues.org
SUMMARY:Conceptions and instruments of government in 17th and 18th centuries
URL:https://calenda-formation.labocleo.org/207531
DESCRIPTION:La construction de l’Etat à la période moderne est un chantier historiographique visité et revisité ces trente dernières années. De la notion d’absolutisme à l’exercice quotidien du pouvoir\, les recherches sont aujourd’hui multiples. Des études récen… @plus_info https://calenda-formation.labocleo.org/207531
LOCATION:Rouen
END:VEVENT
END:VCALENDAR
