BEGIN:VCALENDAR
VERSION:2.0
PRODID:-//https://calenda-formation.labocleo.org
X-WR-CALNAME:Calenda
X-WR-TIMEZONE:Europe/Paris
CALSCALE:GREGORIAN
X-WR-CALDESC:Le calendrier des lettres et sciences humaines et sociales
METHOD:PUBLISH
BEGIN:VEVENT
DTSTART;VALUE=DATE:20120330
DTEND;VALUE=DATE:20120331
UID:207555-20120330@calenda.revues.org
SUMMARY:Les Femmes\, la culture et les arts en Europe\, entre Moyen âge et Renaissance
URL:https://calenda-formation.labocleo.org/207555
DESCRIPTION:Depuis 2008\, l’Université de Californie à Santa Barbara (UCSB) et l’Université Lille 3 ont établi un programme d’échange international soutenu par le Partner University Fund et le French American Cultural Exchange. Ce programme est coordonné par Cynt… @plus_info https://calenda-formation.labocleo.org/207555
LOCATION:Lille
END:VEVENT
BEGIN:VEVENT
DTSTART;VALUE=DATE:20120329
DTEND;VALUE=DATE:20120330
UID:207555-20120329@calenda.revues.org
SUMMARY:Les Femmes\, la culture et les arts en Europe\, entre Moyen âge et Renaissance
URL:https://calenda-formation.labocleo.org/207555
DESCRIPTION:Depuis 2008\, l’Université de Californie à Santa Barbara (UCSB) et l’Université Lille 3 ont établi un programme d’échange international soutenu par le Partner University Fund et le French American Cultural Exchange. Ce programme est coordonné par Cynt… @plus_info https://calenda-formation.labocleo.org/207555
LOCATION:Lille
END:VEVENT
BEGIN:VEVENT
DTSTART;VALUE=DATE:20120328
DTEND;VALUE=DATE:20120329
UID:207555-20120328@calenda.revues.org
SUMMARY:Les Femmes\, la culture et les arts en Europe\, entre Moyen âge et Renaissance
URL:https://calenda-formation.labocleo.org/207555
DESCRIPTION:Depuis 2008\, l’Université de Californie à Santa Barbara (UCSB) et l’Université Lille 3 ont établi un programme d’échange international soutenu par le Partner University Fund et le French American Cultural Exchange. Ce programme est coordonné par Cynt… @plus_info https://calenda-formation.labocleo.org/207555
LOCATION:Lille
END:VEVENT
END:VCALENDAR
