BEGIN:VCALENDAR
VERSION:2.0
PRODID:-//https://calenda-formation.labocleo.org
X-WR-CALNAME:Calenda
X-WR-TIMEZONE:Europe/Paris
CALSCALE:GREGORIAN
X-WR-CALDESC:Le calendrier des lettres et sciences humaines et sociales
METHOD:PUBLISH
BEGIN:VEVENT
DTSTART;VALUE=DATE:20120305
DTEND;VALUE=DATE:20120306
UID:207658-20120305@calenda.revues.org
SUMMARY:O lugar e os desafios das políticas setoriais 
URL:https://calenda-formation.labocleo.org/207658
DESCRIPTION:Está aberta a chamada bilíngue ( português /espanhol) de artigos para a Revista Brasileira  de Estudos Urbanos e Regionais\, editada pela ANPUR-Associação Nacional de Pós-graduação e Pesquisa em Planejamento Urbano e Regional. Contamos com sua colabor… Más informaciones https://calenda-formation.labocleo.org/207658
LOCATION:São Paulo
END:VEVENT
END:VCALENDAR
