BEGIN:VCALENDAR
VERSION:2.0
PRODID:-//https://calenda-formation.labocleo.org
X-WR-CALNAME:Calenda
X-WR-TIMEZONE:Europe/Paris
CALSCALE:GREGORIAN
X-WR-CALDESC:Le calendrier des lettres et sciences humaines et sociales
METHOD:PUBLISH
BEGIN:VEVENT
DTSTART;VALUE=DATE:20120414
DTEND;VALUE=DATE:20120415
UID:207677-20120414@calenda.revues.org
SUMMARY:Bousculer la nation ?
URL:https://calenda-formation.labocleo.org/207677
DESCRIPTION:Journée d'études du collectif Aggiornamento histoire-géographie visant à revisiter la place de la Nation dans l'enseignement\, à la fois dans les contenus des programmes et dans la structure actuelle du système éducatif. Le 14 avril de 9h30 à 17h30\, M… Weitere Informationen https://calenda-formation.labocleo.org/207677
LOCATION:Paris
END:VEVENT
END:VCALENDAR
