BEGIN:VCALENDAR
VERSION:2.0
PRODID:-//https://calenda-formation.labocleo.org
X-WR-CALNAME:Calenda
X-WR-TIMEZONE:Europe/Paris
CALSCALE:GREGORIAN
X-WR-CALDESC:Le calendrier des lettres et sciences humaines et sociales
METHOD:PUBLISH
BEGIN:VEVENT
DTSTART;VALUE=DATE:20120305
DTEND;VALUE=DATE:20120306
UID:207683-20120305@calenda.revues.org
SUMMARY:Psychanalyse et théorie sociale (2011-2012)
URL:https://calenda-formation.labocleo.org/207683
DESCRIPTION:Séminaire extérieur du Collège international de philosophie\, « psychanalyse et théorie sociale » de Claire Pagès.… Weitere Informationen https://calenda-formation.labocleo.org/207683
LOCATION:Paris
END:VEVENT
BEGIN:VEVENT
DTSTART;VALUE=DATE:20120312
DTEND;VALUE=DATE:20120313
UID:207683-20120312@calenda.revues.org
SUMMARY:Psychanalyse et théorie sociale (2011-2012)
URL:https://calenda-formation.labocleo.org/207683
DESCRIPTION:Séminaire extérieur du Collège international de philosophie\, « psychanalyse et théorie sociale » de Claire Pagès.… Weitere Informationen https://calenda-formation.labocleo.org/207683
LOCATION:Paris
END:VEVENT
BEGIN:VEVENT
DTSTART;VALUE=DATE:20120319
DTEND;VALUE=DATE:20120320
UID:207683-20120319@calenda.revues.org
SUMMARY:Psychanalyse et théorie sociale (2011-2012)
URL:https://calenda-formation.labocleo.org/207683
DESCRIPTION:Séminaire extérieur du Collège international de philosophie\, « psychanalyse et théorie sociale » de Claire Pagès.… Weitere Informationen https://calenda-formation.labocleo.org/207683
LOCATION:Paris
END:VEVENT
BEGIN:VEVENT
DTSTART;VALUE=DATE:20120326
DTEND;VALUE=DATE:20120327
UID:207683-20120326@calenda.revues.org
SUMMARY:Psychanalyse et théorie sociale (2011-2012)
URL:https://calenda-formation.labocleo.org/207683
DESCRIPTION:Séminaire extérieur du Collège international de philosophie\, « psychanalyse et théorie sociale » de Claire Pagès.… Weitere Informationen https://calenda-formation.labocleo.org/207683
LOCATION:Paris
END:VEVENT
END:VCALENDAR
