BEGIN:VCALENDAR
VERSION:2.0
PRODID:-//https://calenda-formation.labocleo.org
X-WR-CALNAME:Calenda
X-WR-TIMEZONE:Europe/Paris
CALSCALE:GREGORIAN
X-WR-CALDESC:Le calendrier des lettres et sciences humaines et sociales
METHOD:PUBLISH
BEGIN:VEVENT
DTSTART;VALUE=DATE:20120323
DTEND;VALUE=DATE:20120324
UID:207685-20120323@calenda.revues.org
SUMMARY:Économie et normes alimentaires
URL:https://calenda-formation.labocleo.org/207685
DESCRIPTION:Journée d'étude transdisciplinaire sur le thème « économie et normes alimentaires »\, organisée par Juliette Sibon\, maître de conférences d'histoire médiévale CUFR Albi et Claire Soussen\, maître de conférences d'histoire médiévale Université de Cergy\,… Weitere Informationen https://calenda-formation.labocleo.org/207685
LOCATION:Toulouse
END:VEVENT
END:VCALENDAR
