BEGIN:VCALENDAR
VERSION:2.0
PRODID:-//https://calenda-formation.labocleo.org
X-WR-CALNAME:Calenda
X-WR-TIMEZONE:Europe/Paris
CALSCALE:GREGORIAN
X-WR-CALDESC:The calendar for arts, humanities and social sciences
METHOD:PUBLISH
BEGIN:VEVENT
DTSTART;VALUE=DATE:20120905
DTEND;VALUE=DATE:20120906
UID:207729-20120905@calenda.revues.org
SUMMARY:Jude Stéfan : le festoyant français
URL:https://calenda-formation.labocleo.org/207729
DESCRIPTION:Jude Stéfan\, né en 1930\, professeur de lettres classiques jusqu’en 1995\, vit à Orbec (Calvados). Son œuvre – une soixantaine de titres – comprend poèmes\, nouvelles\, journal\, lettres\, essais sous des formes diverses ; elle a fait l’objet de thèses et … @plus_info https://calenda-formation.labocleo.org/207729
LOCATION:Cerisy-la-Salle
END:VEVENT
BEGIN:VEVENT
DTSTART;VALUE=DATE:20120906
DTEND;VALUE=DATE:20120907
UID:207729-20120906@calenda.revues.org
SUMMARY:Jude Stéfan : le festoyant français
URL:https://calenda-formation.labocleo.org/207729
DESCRIPTION:Jude Stéfan\, né en 1930\, professeur de lettres classiques jusqu’en 1995\, vit à Orbec (Calvados). Son œuvre – une soixantaine de titres – comprend poèmes\, nouvelles\, journal\, lettres\, essais sous des formes diverses ; elle a fait l’objet de thèses et … @plus_info https://calenda-formation.labocleo.org/207729
LOCATION:Cerisy-la-Salle
END:VEVENT
BEGIN:VEVENT
DTSTART;VALUE=DATE:20120907
DTEND;VALUE=DATE:20120908
UID:207729-20120907@calenda.revues.org
SUMMARY:Jude Stéfan : le festoyant français
URL:https://calenda-formation.labocleo.org/207729
DESCRIPTION:Jude Stéfan\, né en 1930\, professeur de lettres classiques jusqu’en 1995\, vit à Orbec (Calvados). Son œuvre – une soixantaine de titres – comprend poèmes\, nouvelles\, journal\, lettres\, essais sous des formes diverses ; elle a fait l’objet de thèses et … @plus_info https://calenda-formation.labocleo.org/207729
LOCATION:Cerisy-la-Salle
END:VEVENT
BEGIN:VEVENT
DTSTART;VALUE=DATE:20120908
DTEND;VALUE=DATE:20120909
UID:207729-20120908@calenda.revues.org
SUMMARY:Jude Stéfan : le festoyant français
URL:https://calenda-formation.labocleo.org/207729
DESCRIPTION:Jude Stéfan\, né en 1930\, professeur de lettres classiques jusqu’en 1995\, vit à Orbec (Calvados). Son œuvre – une soixantaine de titres – comprend poèmes\, nouvelles\, journal\, lettres\, essais sous des formes diverses ; elle a fait l’objet de thèses et … @plus_info https://calenda-formation.labocleo.org/207729
LOCATION:Cerisy-la-Salle
END:VEVENT
BEGIN:VEVENT
DTSTART;VALUE=DATE:20120909
DTEND;VALUE=DATE:20120910
UID:207729-20120909@calenda.revues.org
SUMMARY:Jude Stéfan : le festoyant français
URL:https://calenda-formation.labocleo.org/207729
DESCRIPTION:Jude Stéfan\, né en 1930\, professeur de lettres classiques jusqu’en 1995\, vit à Orbec (Calvados). Son œuvre – une soixantaine de titres – comprend poèmes\, nouvelles\, journal\, lettres\, essais sous des formes diverses ; elle a fait l’objet de thèses et … @plus_info https://calenda-formation.labocleo.org/207729
LOCATION:Cerisy-la-Salle
END:VEVENT
BEGIN:VEVENT
DTSTART;VALUE=DATE:20120910
DTEND;VALUE=DATE:20120911
UID:207729-20120910@calenda.revues.org
SUMMARY:Jude Stéfan : le festoyant français
URL:https://calenda-formation.labocleo.org/207729
DESCRIPTION:Jude Stéfan\, né en 1930\, professeur de lettres classiques jusqu’en 1995\, vit à Orbec (Calvados). Son œuvre – une soixantaine de titres – comprend poèmes\, nouvelles\, journal\, lettres\, essais sous des formes diverses ; elle a fait l’objet de thèses et … @plus_info https://calenda-formation.labocleo.org/207729
LOCATION:Cerisy-la-Salle
END:VEVENT
BEGIN:VEVENT
DTSTART;VALUE=DATE:20120911
DTEND;VALUE=DATE:20120912
UID:207729-20120911@calenda.revues.org
SUMMARY:Jude Stéfan : le festoyant français
URL:https://calenda-formation.labocleo.org/207729
DESCRIPTION:Jude Stéfan\, né en 1930\, professeur de lettres classiques jusqu’en 1995\, vit à Orbec (Calvados). Son œuvre – une soixantaine de titres – comprend poèmes\, nouvelles\, journal\, lettres\, essais sous des formes diverses ; elle a fait l’objet de thèses et … @plus_info https://calenda-formation.labocleo.org/207729
LOCATION:Cerisy-la-Salle
END:VEVENT
BEGIN:VEVENT
DTSTART;VALUE=DATE:20120912
DTEND;VALUE=DATE:20120913
UID:207729-20120912@calenda.revues.org
SUMMARY:Jude Stéfan : le festoyant français
URL:https://calenda-formation.labocleo.org/207729
DESCRIPTION:Jude Stéfan\, né en 1930\, professeur de lettres classiques jusqu’en 1995\, vit à Orbec (Calvados). Son œuvre – une soixantaine de titres – comprend poèmes\, nouvelles\, journal\, lettres\, essais sous des formes diverses ; elle a fait l’objet de thèses et … @plus_info https://calenda-formation.labocleo.org/207729
LOCATION:Cerisy-la-Salle
END:VEVENT
END:VCALENDAR
