BEGIN:VCALENDAR
VERSION:2.0
PRODID:-//https://calenda-formation.labocleo.org
X-WR-CALNAME:Calenda
X-WR-TIMEZONE:Europe/Paris
CALSCALE:GREGORIAN
X-WR-CALDESC:Le calendrier des lettres et sciences humaines et sociales
METHOD:PUBLISH
BEGIN:VEVENT
DTSTART;VALUE=DATE:20120701
DTEND;VALUE=DATE:20120702
UID:207755-20120701@calenda.revues.org
SUMMARY:Élites urbaines et constructions territoriales : des appartenances plurielles ? (France – Saint Empire\, XVe-XVIIIe siècle)
URL:https://calenda-formation.labocleo.org/207755
DESCRIPTION:Cette journée d’études\, organisée le 23 novembre 2012 au sein du Centre d’Histoire Sociale et Culturelle de l’Occident\, XIIe – XVIIIe siècles de l'Université de Paris Ouest Nanterre La Défense\, a pour projet d’analyser les manières dont les élites ur… Weitere Informationen https://calenda-formation.labocleo.org/207755
LOCATION:Nanterre
END:VEVENT
END:VCALENDAR
