BEGIN:VCALENDAR
VERSION:2.0
PRODID:-//https://calenda-formation.labocleo.org
X-WR-CALNAME:Calenda
X-WR-TIMEZONE:Europe/Paris
CALSCALE:GREGORIAN
X-WR-CALDESC:O calendário de letras e de ciências sociais e humanas
METHOD:PUBLISH
BEGIN:VEVENT
DTSTART;VALUE=DATE:20120317
DTEND;VALUE=DATE:20120318
UID:207757-20120317@calenda.revues.org
SUMMARY:Repenser nos formes de vies à l'aune des nouvelles technologies
URL:https://calenda-formation.labocleo.org/207757
DESCRIPTION:Il s'agit d'un colloque qui aura lieu samedi 17 mars de 9h à 19h à l'ENS. Le sujet en est : repenser nos formes de vies à l'aune des nouvelles technologies. Plusieurs intervenants y traiteront de sujets aussi variés que le transhumanisme\, les nouvell… @plus_info https://calenda-formation.labocleo.org/207757
LOCATION:Paris
END:VEVENT
END:VCALENDAR
