BEGIN:VCALENDAR
VERSION:2.0
PRODID:-//https://calenda-formation.labocleo.org
X-WR-CALNAME:Calenda
X-WR-TIMEZONE:Europe/Paris
CALSCALE:GREGORIAN
X-WR-CALDESC:The calendar for arts, humanities and social sciences
METHOD:PUBLISH
BEGIN:VEVENT
DTSTART;VALUE=DATE:20120420
DTEND;VALUE=DATE:20120421
UID:207840-20120420@calenda.revues.org
SUMMARY:Michel Tournier and Otherness
URL:https://calenda-formation.labocleo.org/207840
DESCRIPTION:Comment concevoir l’altérité ? Comment définir notre rapport à autrui ? Plutôt que de nous poser ces questions d’une manière abstraite et générale\, nous entendons passer par la médiation de la littérature et prendre en compte les différentes manières… @plus_info https://calenda-formation.labocleo.org/207840
LOCATION:Tallinn
END:VEVENT
END:VCALENDAR
