BEGIN:VCALENDAR
VERSION:2.0
PRODID:-//https://calenda-formation.labocleo.org
X-WR-CALNAME:Calenda
X-WR-TIMEZONE:Europe/Paris
CALSCALE:GREGORIAN
X-WR-CALDESC:O calendário de letras e de ciências sociais e humanas
METHOD:PUBLISH
BEGIN:VEVENT
DTSTART;VALUE=DATE:20120524
DTEND;VALUE=DATE:20120525
UID:207879-20120524@calenda.revues.org
SUMMARY:Mobilités et changements de catégories. Portée et limites des données longitudinales 
URL:https://calenda-formation.labocleo.org/207879
DESCRIPTION:De nombreuses recherches ont déjà démontré l'apport des données longitudinales pour déchiffrer le passage d'un état à un autre\, et signaler des états transitoires\, précaires ou durables\, plus ou moins réversibles\, plus ou moins ajustés aux attentes e… @plus_info https://calenda-formation.labocleo.org/207879
LOCATION:Caen
END:VEVENT
BEGIN:VEVENT
DTSTART;VALUE=DATE:20120525
DTEND;VALUE=DATE:20120526
UID:207879-20120525@calenda.revues.org
SUMMARY:Mobilités et changements de catégories. Portée et limites des données longitudinales 
URL:https://calenda-formation.labocleo.org/207879
DESCRIPTION:De nombreuses recherches ont déjà démontré l'apport des données longitudinales pour déchiffrer le passage d'un état à un autre\, et signaler des états transitoires\, précaires ou durables\, plus ou moins réversibles\, plus ou moins ajustés aux attentes e… @plus_info https://calenda-formation.labocleo.org/207879
LOCATION:Caen
END:VEVENT
END:VCALENDAR
