BEGIN:VCALENDAR
VERSION:2.0
PRODID:-//https://calenda-formation.labocleo.org
X-WR-CALNAME:Calenda
X-WR-TIMEZONE:Europe/Paris
CALSCALE:GREGORIAN
X-WR-CALDESC:The calendar for arts, humanities and social sciences
METHOD:PUBLISH
BEGIN:VEVENT
DTSTART;VALUE=DATE:20120507
DTEND;VALUE=DATE:20120508
UID:207915-20120507@calenda.revues.org
SUMMARY:Forms of mobility and inclusions\, what relations?
URL:https://calenda-formation.labocleo.org/207915
DESCRIPTION:De plus en plus\, les recherches sur la mobilité vont au-delà du couple mobilité-déplacement pour s’intéresser davantage au lien entre la mobilité et la qualité de vie\, mettant en relief les différences et l’évolution des compétences de mobilité indiv… @plus_info https://calenda-formation.labocleo.org/207915
LOCATION:Montreal
END:VEVENT
BEGIN:VEVENT
DTSTART;VALUE=DATE:20120508
DTEND;VALUE=DATE:20120509
UID:207915-20120508@calenda.revues.org
SUMMARY:Forms of mobility and inclusions\, what relations?
URL:https://calenda-formation.labocleo.org/207915
DESCRIPTION:De plus en plus\, les recherches sur la mobilité vont au-delà du couple mobilité-déplacement pour s’intéresser davantage au lien entre la mobilité et la qualité de vie\, mettant en relief les différences et l’évolution des compétences de mobilité indiv… @plus_info https://calenda-formation.labocleo.org/207915
LOCATION:Montreal
END:VEVENT
END:VCALENDAR
