BEGIN:VCALENDAR
VERSION:2.0
PRODID:-//https://calenda-formation.labocleo.org
X-WR-CALNAME:Calenda
X-WR-TIMEZONE:Europe/Paris
CALSCALE:GREGORIAN
X-WR-CALDESC:The calendar for arts, humanities and social sciences
METHOD:PUBLISH
BEGIN:VEVENT
DTSTART;VALUE=DATE:20120715
DTEND;VALUE=DATE:20120716
UID:208008-20120715@calenda.revues.org
SUMMARY:Turning food into Heritage in France and worldwide
URL:https://calenda-formation.labocleo.org/208008
DESCRIPTION:Le deuxième numéro de la revue en ligne Food Geography porte sur le thème de la patrimonialisation alimentaire. Il s’agit d’interroger de façon critique le concept même de patrimoine alimentaire\, ses usages sociaux\, sa politisation et sa marchandisat… @plus_info https://calenda-formation.labocleo.org/208008
LOCATION:
END:VEVENT
END:VCALENDAR
