BEGIN:VCALENDAR
VERSION:2.0
PRODID:-//https://calenda-formation.labocleo.org
X-WR-CALNAME:Calenda
X-WR-TIMEZONE:Europe/Paris
CALSCALE:GREGORIAN
X-WR-CALDESC:The calendar for arts, humanities and social sciences
METHOD:PUBLISH
BEGIN:VEVENT
DTSTART;VALUE=DATE:20110121
DTEND;VALUE=DATE:20110122
UID:208068-20110121@calenda.revues.org
SUMMARY:From the anthology of Muslim law to the anthropology of law in Muslim worlds
URL:https://calenda-formation.labocleo.org/208068
DESCRIPTION:Journées d'études organisée par le Centre Jacques Berque les 21 et 22 janvier 2011.… @plus_info https://calenda-formation.labocleo.org/208068
LOCATION:Rabat
END:VEVENT
BEGIN:VEVENT
DTSTART;VALUE=DATE:20110122
DTEND;VALUE=DATE:20110123
UID:208068-20110122@calenda.revues.org
SUMMARY:From the anthology of Muslim law to the anthropology of law in Muslim worlds
URL:https://calenda-formation.labocleo.org/208068
DESCRIPTION:Journées d'études organisée par le Centre Jacques Berque les 21 et 22 janvier 2011.… @plus_info https://calenda-formation.labocleo.org/208068
LOCATION:Rabat
END:VEVENT
END:VCALENDAR
