BEGIN:VCALENDAR
VERSION:2.0
PRODID:-//https://calenda-formation.labocleo.org
X-WR-CALNAME:Calenda
X-WR-TIMEZONE:Europe/Paris
CALSCALE:GREGORIAN
X-WR-CALDESC:Le calendrier des lettres et sciences humaines et sociales
METHOD:PUBLISH
BEGIN:VEVENT
DTSTART;VALUE=DATE:20120524
DTEND;VALUE=DATE:20120525
UID:208109-20120524@calenda.revues.org
SUMMARY:Redécouvrir la générosité
URL:https://calenda-formation.labocleo.org/208109
DESCRIPTION:De nombreuses études sociologiques ont mis en évidence le caractère individualiste de nos sociétés. Mais qu’en est-il du thème de la générosité qui est le plus souvent ignoré au profit de la violence\, des conflits et des intérêts individuels ? Si la … Weitere Informationen https://calenda-formation.labocleo.org/208109
LOCATION:Paris
END:VEVENT
END:VCALENDAR
