BEGIN:VCALENDAR
VERSION:2.0
PRODID:-//https://calenda-formation.labocleo.org
X-WR-CALNAME:Calenda
X-WR-TIMEZONE:Europe/Paris
CALSCALE:GREGORIAN
X-WR-CALDESC:Le calendrier des lettres et sciences humaines et sociales
METHOD:PUBLISH
BEGIN:VEVENT
DTSTART;VALUE=DATE:20120531
DTEND;VALUE=DATE:20120601
UID:208126-20120531@calenda.revues.org
SUMMARY:La présence chinoise en Algérie 
URL:https://calenda-formation.labocleo.org/208126
DESCRIPTION:Ce workshop\, qui a un caractère exploratoire\, tentera d'évaluer notre connaissance actuelle des activités chinoises en Algérie puis\, par comparaison avec ce qui se passe ailleurs en Afrique\, cherchera à mieux spécifier les rapports sino-algériens. La… @plus_info https://calenda-formation.labocleo.org/208126
LOCATION:Saint-Denis
END:VEVENT
END:VCALENDAR
