BEGIN:VCALENDAR
VERSION:2.0
PRODID:-//https://calenda-formation.labocleo.org
X-WR-CALNAME:Calenda
X-WR-TIMEZONE:Europe/Paris
CALSCALE:GREGORIAN
X-WR-CALDESC:Le calendrier des lettres et sciences humaines et sociales
METHOD:PUBLISH
BEGIN:VEVENT
DTSTART;VALUE=DATE:20120418
DTEND;VALUE=DATE:20120419
UID:208152-20120418@calenda.revues.org
SUMMARY:Do património mundial ao património local: proteger e gerir a mudança
URL:https://calenda-formation.labocleo.org/208152
DESCRIPTION:O Dia Internacional dos Monumentos e Sítios foi criado pelo ICOMOS a 18 de Abril de 1982 e aprovado pela UNESCO no ano seguinte. Esta comemoração tem como objectivo sensibilizar o público para a diversidade e vulnerabilidade do património\, bem como p… Weitere Informationen https://calenda-formation.labocleo.org/208152
LOCATION:Lissabon
END:VEVENT
END:VCALENDAR
