BEGIN:VCALENDAR
VERSION:2.0
PRODID:-//https://calenda-formation.labocleo.org
X-WR-CALNAME:Calenda
X-WR-TIMEZONE:Europe/Paris
CALSCALE:GREGORIAN
X-WR-CALDESC:Le calendrier des lettres et sciences humaines et sociales
METHOD:PUBLISH
BEGIN:VEVENT
DTSTART;VALUE=DATE:20120531
DTEND;VALUE=DATE:20120601
UID:208160-20120531@calenda.revues.org
SUMMARY:Objets de science – sciences de l’objet
URL:https://calenda-formation.labocleo.org/208160
DESCRIPTION:Le prochain atelier du forum suisse pour jeunes chercheuses et chercheurs en histoire des sciences et de la médecine s'intitule: « Objets de science – sciences de l'objet » et se déroulera à Winterthur du mercredi 5 au jeudi 6 septembre 2012. Nous ap… Más informaciones https://calenda-formation.labocleo.org/208160
LOCATION:Winterthur
END:VEVENT
END:VCALENDAR
