BEGIN:VCALENDAR
VERSION:2.0
PRODID:-//https://calenda-formation.labocleo.org
X-WR-CALNAME:Calenda
X-WR-TIMEZONE:Europe/Paris
CALSCALE:GREGORIAN
X-WR-CALDESC:O calendário de letras e de ciências sociais e humanas
METHOD:PUBLISH
BEGIN:VEVENT
DTSTART;VALUE=DATE:20120505
DTEND;VALUE=DATE:20120506
UID:208164-20120505@calenda.revues.org
SUMMARY:La pratique des sciences sociales en terrain militaire : une « opération spéciale » ?
URL:https://calenda-formation.labocleo.org/208164
DESCRIPTION:Les sciences sociales ont franchi les enceintes des régiments et des administrations centrales de l’Armée\, sans compter les militaires s’étant faits historiens\, sociologues ou ethnographes. Elles ont pourtant rarement interrogé la « spécificité milit… @plus_info https://calenda-formation.labocleo.org/208164
LOCATION:Paris
END:VEVENT
END:VCALENDAR
