BEGIN:VCALENDAR
VERSION:2.0
PRODID:-//https://calenda-formation.labocleo.org
X-WR-CALNAME:Calenda
X-WR-TIMEZONE:Europe/Paris
CALSCALE:GREGORIAN
X-WR-CALDESC:Le calendrier des lettres et sciences humaines et sociales
METHOD:PUBLISH
BEGIN:VEVENT
DTSTART;VALUE=DATE:20120608
DTEND;VALUE=DATE:20120609
UID:208226-20120608@calenda.revues.org
SUMMARY:Dire et écrire le pouvoir impérial en Méditerranée\, XIXe-XXe siècles
URL:https://calenda-formation.labocleo.org/208226
DESCRIPTION:Cette journée d’étude ambitionne de mettre en lumière les processus d’hybridation à l’œuvre dans l’exercice du pouvoir impérial\, à travers une étude des modalités de traduction de ce dernier. Le cadre méditerranéen se prête tout particulièrement à l’… @plus_info https://calenda-formation.labocleo.org/208226
LOCATION:Aix-en-Provence
END:VEVENT
END:VCALENDAR
