BEGIN:VCALENDAR
VERSION:2.0
PRODID:-//https://calenda-formation.labocleo.org
X-WR-CALNAME:Calenda
X-WR-TIMEZONE:Europe/Paris
CALSCALE:GREGORIAN
X-WR-CALDESC:O calendário de letras e de ciências sociais e humanas
METHOD:PUBLISH
BEGIN:VEVENT
DTSTART;VALUE=DATE:20120510
DTEND;VALUE=DATE:20120511
UID:208229-20120510@calenda.revues.org
SUMMARY:Complémentarité des approches quantitatives et qualitatives dans l'analyse des discours ?
URL:https://calenda-formation.labocleo.org/208229
DESCRIPTION:Ce colloque international a pour objectif de réfléchir de façon collective et interdisciplinaire à l’articulation des approches quantitatives et qualitatives dans l’étude des discours en partant de ce simple constat : si l’étude des discours n’a jama… @plus_info https://calenda-formation.labocleo.org/208229
LOCATION:Amiens
END:VEVENT
BEGIN:VEVENT
DTSTART;VALUE=DATE:20120511
DTEND;VALUE=DATE:20120512
UID:208229-20120511@calenda.revues.org
SUMMARY:Complémentarité des approches quantitatives et qualitatives dans l'analyse des discours ?
URL:https://calenda-formation.labocleo.org/208229
DESCRIPTION:Ce colloque international a pour objectif de réfléchir de façon collective et interdisciplinaire à l’articulation des approches quantitatives et qualitatives dans l’étude des discours en partant de ce simple constat : si l’étude des discours n’a jama… @plus_info https://calenda-formation.labocleo.org/208229
LOCATION:Amiens
END:VEVENT
END:VCALENDAR
