BEGIN:VCALENDAR
VERSION:2.0
PRODID:-//https://calenda-formation.labocleo.org
X-WR-CALNAME:Calenda
X-WR-TIMEZONE:Europe/Paris
CALSCALE:GREGORIAN
X-WR-CALDESC:The calendar for arts, humanities and social sciences
METHOD:PUBLISH
BEGIN:VEVENT
DTSTART;VALUE=DATE:20120515
DTEND;VALUE=DATE:20120516
UID:208259-20120515@calenda.revues.org
SUMMARY:Summer school: world music and urban dynamics in western cities
URL:https://calenda-formation.labocleo.org/208259
DESCRIPTION:Cette troisième Université d’été du Centre Marc Bloch (3.-9. septembre 2012) nous fera examiner le dynamisme de politiques urbaines qui décident de faire des « musiques du monde » un outil du développement social et culturel. Notre attention sera cen… @plus_info https://calenda-formation.labocleo.org/208259
LOCATION:Berlin
END:VEVENT
END:VCALENDAR
