BEGIN:VCALENDAR
VERSION:2.0
PRODID:-//https://calenda-formation.labocleo.org
X-WR-CALNAME:Calenda
X-WR-TIMEZONE:Europe/Paris
CALSCALE:GREGORIAN
X-WR-CALDESC:The calendar for arts, humanities and social sciences
METHOD:PUBLISH
BEGIN:VEVENT
DTSTART;VALUE=DATE:20120515
DTEND;VALUE=DATE:20120516
UID:208269-20120515@calenda.revues.org
SUMMARY:Le livre en Afrique francophone
URL:https://calenda-formation.labocleo.org/208269
DESCRIPTION:Quelle place occupe le livre dans la vie culturelle et économique de l’Afrique subsaharienne ? Avec 1\,4% de la production éditoriale mondiale\, pour 14% de la population\, le secteur du livre peine à y prendre son essor. Faiblesse du taux d’alphabétisa… @plus_info https://calenda-formation.labocleo.org/208269
LOCATION:Paris
END:VEVENT
END:VCALENDAR
