BEGIN:VCALENDAR
VERSION:2.0
PRODID:-//https://calenda-formation.labocleo.org
X-WR-CALNAME:Calenda
X-WR-TIMEZONE:Europe/Paris
CALSCALE:GREGORIAN
X-WR-CALDESC:Le calendrier des lettres et sciences humaines et sociales
METHOD:PUBLISH
BEGIN:VEVENT
DTSTART;VALUE=DATE:20120430
DTEND;VALUE=DATE:20120501
UID:208291-20120430@calenda.revues.org
SUMMARY:Systems of History: George Kubler’s Portuguese Plain Architecture
URL:https://calenda-formation.labocleo.org/208291
DESCRIPTION:Recent historiographies of modern architecture aim to show the connection between the writing of architectural history and the redefinition of the architectural field. This symposium will be about the operativity of George Kubler’s work more specific… Weitere Informationen https://calenda-formation.labocleo.org/208291
LOCATION:Coimbra
END:VEVENT
END:VCALENDAR
