BEGIN:VCALENDAR
VERSION:2.0
PRODID:-//https://calenda-formation.labocleo.org
X-WR-CALNAME:Calenda
X-WR-TIMEZONE:Europe/Paris
CALSCALE:GREGORIAN
X-WR-CALDESC:Le calendrier des lettres et sciences humaines et sociales
METHOD:PUBLISH
BEGIN:VEVENT
DTSTART;VALUE=DATE:20120329
DTEND;VALUE=DATE:20120330
UID:208309-20120329@calenda.revues.org
SUMMARY:Ciência política e relações internacionais
URL:https://calenda-formation.labocleo.org/208309
DESCRIPTION:O Núcleo de Investigação em Ciência Política e Relações Internacionais (NICPRI) da Escola de Economia e Gestão (EEG) da Universidade do Minho promove de 29 de março a 7 de dezembro o "Ciclo de Seminários 2012". As seis sessões decorrem às 15h00 no An… @plus_info https://calenda-formation.labocleo.org/208309
LOCATION:Bragança Paulista
END:VEVENT
BEGIN:VEVENT
DTSTART;VALUE=DATE:20120419
DTEND;VALUE=DATE:20120420
UID:208309-20120419@calenda.revues.org
SUMMARY:Ciência política e relações internacionais
URL:https://calenda-formation.labocleo.org/208309
DESCRIPTION:O Núcleo de Investigação em Ciência Política e Relações Internacionais (NICPRI) da Escola de Economia e Gestão (EEG) da Universidade do Minho promove de 29 de março a 7 de dezembro o "Ciclo de Seminários 2012". As seis sessões decorrem às 15h00 no An… @plus_info https://calenda-formation.labocleo.org/208309
LOCATION:Bragança Paulista
END:VEVENT
BEGIN:VEVENT
DTSTART;VALUE=DATE:20120504
DTEND;VALUE=DATE:20120505
UID:208309-20120504@calenda.revues.org
SUMMARY:Ciência política e relações internacionais
URL:https://calenda-formation.labocleo.org/208309
DESCRIPTION:O Núcleo de Investigação em Ciência Política e Relações Internacionais (NICPRI) da Escola de Economia e Gestão (EEG) da Universidade do Minho promove de 29 de março a 7 de dezembro o "Ciclo de Seminários 2012". As seis sessões decorrem às 15h00 no An… @plus_info https://calenda-formation.labocleo.org/208309
LOCATION:Bragança Paulista
END:VEVENT
BEGIN:VEVENT
DTSTART;VALUE=DATE:20121019
DTEND;VALUE=DATE:20121020
UID:208309-20121019@calenda.revues.org
SUMMARY:Ciência política e relações internacionais
URL:https://calenda-formation.labocleo.org/208309
DESCRIPTION:O Núcleo de Investigação em Ciência Política e Relações Internacionais (NICPRI) da Escola de Economia e Gestão (EEG) da Universidade do Minho promove de 29 de março a 7 de dezembro o "Ciclo de Seminários 2012". As seis sessões decorrem às 15h00 no An… @plus_info https://calenda-formation.labocleo.org/208309
LOCATION:Bragança Paulista
END:VEVENT
BEGIN:VEVENT
DTSTART;VALUE=DATE:20121116
DTEND;VALUE=DATE:20121117
UID:208309-20121116@calenda.revues.org
SUMMARY:Ciência política e relações internacionais
URL:https://calenda-formation.labocleo.org/208309
DESCRIPTION:O Núcleo de Investigação em Ciência Política e Relações Internacionais (NICPRI) da Escola de Economia e Gestão (EEG) da Universidade do Minho promove de 29 de março a 7 de dezembro o "Ciclo de Seminários 2012". As seis sessões decorrem às 15h00 no An… @plus_info https://calenda-formation.labocleo.org/208309
LOCATION:Bragança Paulista
END:VEVENT
BEGIN:VEVENT
DTSTART;VALUE=DATE:20121207
DTEND;VALUE=DATE:20121208
UID:208309-20121207@calenda.revues.org
SUMMARY:Ciência política e relações internacionais
URL:https://calenda-formation.labocleo.org/208309
DESCRIPTION:O Núcleo de Investigação em Ciência Política e Relações Internacionais (NICPRI) da Escola de Economia e Gestão (EEG) da Universidade do Minho promove de 29 de março a 7 de dezembro o "Ciclo de Seminários 2012". As seis sessões decorrem às 15h00 no An… @plus_info https://calenda-formation.labocleo.org/208309
LOCATION:Bragança Paulista
END:VEVENT
END:VCALENDAR
