BEGIN:VCALENDAR
VERSION:2.0
PRODID:-//https://calenda-formation.labocleo.org
X-WR-CALNAME:Calenda
X-WR-TIMEZONE:Europe/Paris
CALSCALE:GREGORIAN
X-WR-CALDESC:The calendar for arts, humanities and social sciences
METHOD:PUBLISH
BEGIN:VEVENT
DTSTART;VALUE=DATE:20120426
DTEND;VALUE=DATE:20120427
UID:208311-20120426@calenda.revues.org
SUMMARY:Figuras do herói
URL:https://calenda-formation.labocleo.org/208311
DESCRIPTION:Desde tempos imemoriais\, os grupos humanos tem criado heróis para neles projetarem os seus ideais e valores\, fundamentar a sua existência e problematizar a sua estrutura ética. Desde o semi-deus antigo ao herói urbano pós-moderno\, as configurações hi… @plus_info https://calenda-formation.labocleo.org/208311
LOCATION:Bragança Paulista
END:VEVENT
BEGIN:VEVENT
DTSTART;VALUE=DATE:20120427
DTEND;VALUE=DATE:20120428
UID:208311-20120427@calenda.revues.org
SUMMARY:Figuras do herói
URL:https://calenda-formation.labocleo.org/208311
DESCRIPTION:Desde tempos imemoriais\, os grupos humanos tem criado heróis para neles projetarem os seus ideais e valores\, fundamentar a sua existência e problematizar a sua estrutura ética. Desde o semi-deus antigo ao herói urbano pós-moderno\, as configurações hi… @plus_info https://calenda-formation.labocleo.org/208311
LOCATION:Bragança Paulista
END:VEVENT
BEGIN:VEVENT
DTSTART;VALUE=DATE:20120428
DTEND;VALUE=DATE:20120429
UID:208311-20120428@calenda.revues.org
SUMMARY:Figuras do herói
URL:https://calenda-formation.labocleo.org/208311
DESCRIPTION:Desde tempos imemoriais\, os grupos humanos tem criado heróis para neles projetarem os seus ideais e valores\, fundamentar a sua existência e problematizar a sua estrutura ética. Desde o semi-deus antigo ao herói urbano pós-moderno\, as configurações hi… @plus_info https://calenda-formation.labocleo.org/208311
LOCATION:Bragança Paulista
END:VEVENT
END:VCALENDAR
