BEGIN:VCALENDAR
VERSION:2.0
PRODID:-//https://calenda-formation.labocleo.org
X-WR-CALNAME:Calenda
X-WR-TIMEZONE:Europe/Paris
CALSCALE:GREGORIAN
X-WR-CALDESC:Le calendrier des lettres et sciences humaines et sociales
METHOD:PUBLISH
BEGIN:VEVENT
DTSTART;VALUE=DATE:20120623
DTEND;VALUE=DATE:20120624
UID:208330-20120623@calenda.revues.org
SUMMARY:TIC e educação
URL:https://calenda-formation.labocleo.org/208330
DESCRIPTION:Assumindo a relevância da reflexão e do pensamento estratégico no que respeita aos contributos das tecnologias para o desenvolvimento da educação numa visão prospetiva do desenvolvimento social\, o II Congresso Internacional TIC e Educação – ticEduca … Weitere Informationen https://calenda-formation.labocleo.org/208330
LOCATION:Lissabon
END:VEVENT
END:VCALENDAR
