BEGIN:VCALENDAR
VERSION:2.0
PRODID:-//https://calenda-formation.labocleo.org
X-WR-CALNAME:Calenda
X-WR-TIMEZONE:Europe/Paris
CALSCALE:GREGORIAN
X-WR-CALDESC:Le calendrier des lettres et sciences humaines et sociales
METHOD:PUBLISH
BEGIN:VEVENT
DTSTART;VALUE=DATE:20120605
DTEND;VALUE=DATE:20120606
UID:208339-20120605@calenda.revues.org
SUMMARY:Être fille ou garçon :  regards croisés sur l’enfance et le genre au Nord et au Sud
URL:https://calenda-formation.labocleo.org/208339
DESCRIPTION:À travers des regards disciplinaires croisés sur la construction sociale de l’enfance au Nord et au Sud\, cette rencontre scientifique associant l'UMR 196 Ceped et le Pôle Suds de l’INED veut explorer la diversité des questions et des méthodes autour … Weitere Informationen https://calenda-formation.labocleo.org/208339
LOCATION:Paris
END:VEVENT
BEGIN:VEVENT
DTSTART;VALUE=DATE:20120606
DTEND;VALUE=DATE:20120607
UID:208339-20120606@calenda.revues.org
SUMMARY:Être fille ou garçon :  regards croisés sur l’enfance et le genre au Nord et au Sud
URL:https://calenda-formation.labocleo.org/208339
DESCRIPTION:À travers des regards disciplinaires croisés sur la construction sociale de l’enfance au Nord et au Sud\, cette rencontre scientifique associant l'UMR 196 Ceped et le Pôle Suds de l’INED veut explorer la diversité des questions et des méthodes autour … Weitere Informationen https://calenda-formation.labocleo.org/208339
LOCATION:Paris
END:VEVENT
END:VCALENDAR
