BEGIN:VCALENDAR
VERSION:2.0
PRODID:-//https://calenda-formation.labocleo.org
X-WR-CALNAME:Calenda
X-WR-TIMEZONE:Europe/Paris
CALSCALE:GREGORIAN
X-WR-CALDESC:The calendar for arts, humanities and social sciences
METHOD:PUBLISH
BEGIN:VEVENT
DTSTART;VALUE=DATE:20120430
DTEND;VALUE=DATE:20120501
UID:208343-20120430@calenda.revues.org
SUMMARY:Crisis and the creation of crises
URL:https://calenda-formation.labocleo.org/208343
DESCRIPTION:L’Association canadienne des sociologues et des anthropologues de langue française (ACSALF) organise son colloque général sur le thème de la crise. L’invitation s’adresse aux sociologues et anthropologues et à ceux et celles qui partagent leurs persp… @plus_info https://calenda-formation.labocleo.org/208343
LOCATION:Montreal
END:VEVENT
END:VCALENDAR
