BEGIN:VCALENDAR
VERSION:2.0
PRODID:-//https://calenda-formation.labocleo.org
X-WR-CALNAME:Calenda
X-WR-TIMEZONE:Europe/Paris
CALSCALE:GREGORIAN
X-WR-CALDESC:Le calendrier des lettres et sciences humaines et sociales
METHOD:PUBLISH
BEGIN:VEVENT
DTSTART;VALUE=DATE:20120608
DTEND;VALUE=DATE:20120609
UID:208362-20120608@calenda.revues.org
SUMMARY:Traditions réinventées
URL:https://calenda-formation.labocleo.org/208362
DESCRIPTION:Traditions réinventées – La transmission des modèles artistiques dans les manuscrits à peintures de la fin du Moyen Âge\, Berlin\, 08-10 juin 2012\, Freie Universität Berlin et Gemäldegalerie Berlin. … Weitere Informationen https://calenda-formation.labocleo.org/208362
LOCATION:Berlin
END:VEVENT
BEGIN:VEVENT
DTSTART;VALUE=DATE:20120610
DTEND;VALUE=DATE:20120611
UID:208362-20120610@calenda.revues.org
SUMMARY:Traditions réinventées
URL:https://calenda-formation.labocleo.org/208362
DESCRIPTION:Traditions réinventées – La transmission des modèles artistiques dans les manuscrits à peintures de la fin du Moyen Âge\, Berlin\, 08-10 juin 2012\, Freie Universität Berlin et Gemäldegalerie Berlin. … Weitere Informationen https://calenda-formation.labocleo.org/208362
LOCATION:Berlin
END:VEVENT
BEGIN:VEVENT
DTSTART;VALUE=DATE:20120609
DTEND;VALUE=DATE:20120610
UID:208362-20120609@calenda.revues.org
SUMMARY:Traditions réinventées
URL:https://calenda-formation.labocleo.org/208362
DESCRIPTION:Traditions réinventées – La transmission des modèles artistiques dans les manuscrits à peintures de la fin du Moyen Âge\, Berlin\, 08-10 juin 2012\, Freie Universität Berlin et Gemäldegalerie Berlin. … Weitere Informationen https://calenda-formation.labocleo.org/208362
LOCATION:Berlin
END:VEVENT
END:VCALENDAR
