BEGIN:VCALENDAR
VERSION:2.0
PRODID:-//https://calenda-formation.labocleo.org
X-WR-CALNAME:Calenda
X-WR-TIMEZONE:Europe/Paris
CALSCALE:GREGORIAN
X-WR-CALDESC:Le calendrier des lettres et sciences humaines et sociales
METHOD:PUBLISH
BEGIN:VEVENT
DTSTART;VALUE=DATE:20120601
DTEND;VALUE=DATE:20120602
UID:208373-20120601@calenda.revues.org
SUMMARY:Les justices alternatives et leurs avatars
URL:https://calenda-formation.labocleo.org/208373
DESCRIPTION:« Comme vous jugez\, vous serez jugés... » ; comme juge une société\, se révèlent ses traditions\, ses structures fondamentales. Justice horizontale\, justice verticale\, jugement de Dieu\, syllogisme judiciaire\, les modes de résolution des conflits sont m… @plus_info https://calenda-formation.labocleo.org/208373
LOCATION:Nanterre
END:VEVENT
END:VCALENDAR
